BEGIN:VCALENDAR
VERSION:2.0
PRODID:-//Fenix//mxm.dk//
BEGIN:VEVENT
SUMMARY:Van Tambú tot Maqam: muziek\, migratie en identiteit
DTSTART:20260509T130000
DTEND:20260509T140000
DTSTAMP:20260422T182135Z
UID:619~van-tambu-tot-maqam-muziek-migratie-en-identiteit@fenix.nl
LOCATION:Dolf Henkesplein 1\, 3072 LN Rotterdam\, NL
END:VEVENT
END:VCALENDAR
