BEGIN:VCALENDAR
VERSION:2.0
PRODID:-//Fenix//mxm.dk//
BEGIN:VEVENT
SUMMARY:Rotterdamse Vrijheidsmaaltijden
DTSTART:20260505T180000
DTEND:20260505T193000
DTSTAMP:20260420T175754Z
UID:617~rotterdamse-vrijheidsmaaltijden@fenix.nl
LOCATION:Dolf Henkesplein 1\, 3072 LN Rotterdam\, NL
END:VEVENT
END:VCALENDAR
