BEGIN:VCALENDAR
VERSION:2.0
PRODID:-//Fenix//mxm.dk//
BEGIN:VEVENT
SUMMARY:O. Festival - Containerbegrip
DTSTART;VALUE=DATE:20260527
DTEND;VALUE=DATE:20260531
DTSTAMP:20260422T120052Z
UID:601~o-festival-containerbegrip@fenix.nl
LOCATION:Dolf Henkesplein 1\, 3072 LN Rotterdam\, NL
END:VEVENT
END:VCALENDAR
