BEGIN:VCALENDAR
VERSION:2.0
PRODID:-//Fenix//mxm.dk//
BEGIN:VEVENT
SUMMARY:From Tambú tot Maqam: Music Migration and Identity
DTSTART:20260509T130000
DTEND:20260509T140000
DTSTAMP:20260422T193317Z
UID:622~van-tambu-tot-maqam-muziek-migratie-en-identiteit@fenix.nl
LOCATION:Dolf Henkesplein 1\, 3072 LN Rotterdam\, NL
END:VEVENT
END:VCALENDAR
