BEGIN:VCALENDAR
VERSION:2.0
PRODID:-//Fenix//mxm.dk//
BEGIN:VEVENT
SUMMARY:Social City Walk
DTSTART:20260609T184500
DTEND:20260609T210000
DTSTAMP:20260422T153546Z
UID:621~social-city-walk-juni@fenix.nl
LOCATION:Dolf Henkesplein 1\, 3072 LN Rotterdam\, NL
END:VEVENT
END:VCALENDAR
